BEGIN:VCALENDAR
PRODID:-//eluceo/ical//2.0/EN
VERSION:2.0
CALSCALE:GREGORIAN
BEGIN:VEVENT
UID:9e9a36be68c16b4e3882aab7129cf995
DTSTAMP:20260425T215823Z
SUMMARY:TinderMed reacciones\, medicamentos y viceversa
DESCRIPTION:¿Eres capaz de encontrar el “match” perfecto para RAMona? 
 Taller gamificado sobre farmacovigilancia: identifica medicamentos implica
 dos en reacciones adversas\, explora perfiles\, aprende causalidad y uso s
 eguro de los medicamentos de forma divertida. \n\nPúblico: Adultos en g
 eneral \n\nTipo de actividad: Carpas (en la calzada) \n\nHorario: 9:3
 0-14:30 
DTSTART;TZID=Europe/Madrid:20260509T093000
DTEND;TZID=Europe/Madrid:20260509T143000
LOCATION:Casanova - Provença
END:VEVENT
BEGIN:VTIMEZONE
TZID:Europe/Madrid
BEGIN:STANDARD
DTSTART:20260101T235823
TZNAME:CET
TZOFFSETTO:+0100
TZOFFSETFROM:+0100
END:STANDARD
BEGIN:DAYLIGHT
DTSTART:20260329T030000
TZNAME:CEST
TZOFFSETTO:+0200
TZOFFSETFROM:+0100
END:DAYLIGHT
BEGIN:STANDARD
DTSTART:20261025T020000
TZNAME:CET
TZOFFSETTO:+0100
TZOFFSETFROM:+0200
END:STANDARD
END:VTIMEZONE
END:VCALENDAR
