BEGIN:VCALENDAR
PRODID:-//eluceo/ical//2.0/EN
VERSION:2.0
CALSCALE:GREGORIAN
BEGIN:VEVENT
UID:d286d340c362440855d9f03483c89758
DTSTAMP:20260425T203636Z
SUMMARY:Tu pulso habla\, escuchamos tu corazón
DESCRIPTION:La fibrilación auricular es la arritmia más común y puede se
 r grave o silenciosa\, con riesgo de ictus. La carpa ofrece electrocardiog
 ramas\, encuestas e información para sensibilizar\, detectar y prevenir a
 rritmias cardíacas. \n\nPúblico: Para toda la familia \n\nTipo de ac
 tividad: Carpas (en la calzada) \n\nHorario: 9:30-14:30 
DTSTART;TZID=Europe/Madrid:20260509T093000
DTEND;TZID=Europe/Madrid:20260509T143000
LOCATION:Casanova - Còrsega
END:VEVENT
BEGIN:VTIMEZONE
TZID:Europe/Madrid
BEGIN:STANDARD
DTSTART:20260101T223636
TZNAME:CET
TZOFFSETTO:+0100
TZOFFSETFROM:+0100
END:STANDARD
BEGIN:DAYLIGHT
DTSTART:20260329T030000
TZNAME:CEST
TZOFFSETTO:+0200
TZOFFSETFROM:+0100
END:DAYLIGHT
BEGIN:STANDARD
DTSTART:20261025T020000
TZNAME:CET
TZOFFSETTO:+0100
TZOFFSETFROM:+0200
END:STANDARD
END:VTIMEZONE
END:VCALENDAR
