BEGIN:VCALENDAR
PRODID:-//eluceo/ical//2.0/EN
VERSION:2.0
CALSCALE:GREGORIAN
BEGIN:VEVENT
UID:41c4d0d24b50d53c2f619e153c2e3e41
DTSTAMP:20260423T174508Z
SUMMARY:¡Tus manos pueden salvar una vida!
DESCRIPTION:El SEM te explicará cómo se debe actuar ante una situación d
 e emergencia en la que haya una persona que sufra una parada cardiorrespir
 atoria. Todas las personas que se acerquen a nuestro taller podrán practi
 car maniobras de RCP siguiendo las instrucciones que daremos. Nuestros pro
 fesionales también responderán a las dudas que puedan surgir. \n\nPúbl
 ico: Adultos en general \n\nTipo de actividad: Carpas (en la calzada)
  \n\nHorario: 9:30-14:30 
DTSTART;TZID=Europe/Madrid:20260509T093000
DTEND;TZID=Europe/Madrid:20260509T143000
LOCATION:Casanova - Provença
END:VEVENT
BEGIN:VTIMEZONE
TZID:Europe/Madrid
BEGIN:STANDARD
DTSTART:20260101T194508
TZNAME:CET
TZOFFSETTO:+0100
TZOFFSETFROM:+0100
END:STANDARD
BEGIN:DAYLIGHT
DTSTART:20260329T030000
TZNAME:CEST
TZOFFSETTO:+0200
TZOFFSETFROM:+0100
END:DAYLIGHT
BEGIN:STANDARD
DTSTART:20261025T020000
TZNAME:CET
TZOFFSETTO:+0100
TZOFFSETFROM:+0200
END:STANDARD
END:VTIMEZONE
END:VCALENDAR
