BEGIN:VCALENDAR
PRODID:-//eluceo/ical//2.0/EN
VERSION:2.0
CALSCALE:GREGORIAN
BEGIN:VEVENT
UID:71716915a9895256e0d9f54ed05bd950
DTSTAMP:20260419T141954Z
SUMMARY:Ulisses x Endofest
DESCRIPTION:Festival que\, a través de la música y la solidaridad\, tiene
  como objetivo sensibilizar a la sociedad sobre la endometriosis\, recauda
 r fondos para la investigación y mejorar la calidad de vida de las afecta
 das.\n\n¡Entradas ya a la venta!
DTSTART;TZID=Europe/Madrid:20260509T120000
DTEND;TZID=Europe/Madrid:20260509T120000
LOCATION:Parque de Can Verboom\, Premiá de Dalt. C/ Can Verboom\, 08338 Pr
 emià de Dalt\, Barcelona
END:VEVENT
BEGIN:VTIMEZONE
TZID:Europe/Madrid
BEGIN:STANDARD
DTSTART:20260101T161954
TZNAME:CET
TZOFFSETTO:+0100
TZOFFSETFROM:+0100
END:STANDARD
BEGIN:DAYLIGHT
DTSTART:20260329T030000
TZNAME:CEST
TZOFFSETTO:+0200
TZOFFSETFROM:+0100
END:DAYLIGHT
BEGIN:STANDARD
DTSTART:20261025T020000
TZNAME:CET
TZOFFSETTO:+0100
TZOFFSETFROM:+0200
END:STANDARD
END:VTIMEZONE
END:VCALENDAR
