BEGIN:VCALENDAR
PRODID:-//eluceo/ical//2.0/EN
VERSION:2.0
CALSCALE:GREGORIAN
BEGIN:VEVENT
UID:816c7fef0948c512a9a5edd32336922f
DTSTAMP:20260425T215632Z
SUMMARY:Un botiquín lleno de cuentos
DESCRIPTION:Disfruta de una mañana de aventuras y fantasía con cuentos so
 bre hábitos saludables y bienestar emocional\, e historias con mirada soc
 ial que enseñan valores y promueven la salud infantil de forma divertida 
 y participativa. \n\nPúblico: Infancia \n\nTipo de actividad: Carpas
  (en la calzada) \n\nHorario: 9:30-14:30 
DTSTART;TZID=Europe/Madrid:20260509T093000
DTEND;TZID=Europe/Madrid:20260509T143000
LOCATION:Casanova - Còrsega
END:VEVENT
BEGIN:VTIMEZONE
TZID:Europe/Madrid
BEGIN:STANDARD
DTSTART:20260101T235632
TZNAME:CET
TZOFFSETTO:+0100
TZOFFSETFROM:+0100
END:STANDARD
BEGIN:DAYLIGHT
DTSTART:20260329T030000
TZNAME:CEST
TZOFFSETTO:+0200
TZOFFSETFROM:+0100
END:DAYLIGHT
BEGIN:STANDARD
DTSTART:20261025T020000
TZNAME:CET
TZOFFSETTO:+0100
TZOFFSETFROM:+0200
END:STANDARD
END:VTIMEZONE
END:VCALENDAR
