BEGIN:VCALENDAR
PRODID:-//eluceo/ical//2.0/EN
VERSION:2.0
CALSCALE:GREGORIAN
BEGIN:VEVENT
UID:b72b866ec42e093247453b5490d98f3b
DTSTAMP:20260425T203923Z
SUMMARY:Viaje al corazón: entendiendo la hipertensión pulmonar
DESCRIPTION:Descubre la investigación traslacional en la Unidad de Hiperte
 nsión Pulmonar del Clínic Barcelona: de la clínica al laboratorio\, nue
 vos tratamientos y medicina personalizada con materiales visuales\, casos 
 reales y explicaciones interactivas. \n\nPúblico: Adultos en general \
 n\nTipo de actividad: Carpas (en la calzada) \n\nHorario: 9:30-14:30 
DTSTART;TZID=Europe/Madrid:20260509T093000
DTEND;TZID=Europe/Madrid:20260509T143000
LOCATION:Casanova - Provença
END:VEVENT
BEGIN:VTIMEZONE
TZID:Europe/Madrid
BEGIN:STANDARD
DTSTART:20260101T223923
TZNAME:CET
TZOFFSETTO:+0100
TZOFFSETFROM:+0100
END:STANDARD
BEGIN:DAYLIGHT
DTSTART:20260329T030000
TZNAME:CEST
TZOFFSETTO:+0200
TZOFFSETFROM:+0100
END:DAYLIGHT
BEGIN:STANDARD
DTSTART:20261025T020000
TZNAME:CET
TZOFFSETTO:+0100
TZOFFSETFROM:+0200
END:STANDARD
END:VTIMEZONE
END:VCALENDAR
