BEGIN:VCALENDAR
PRODID:-//eluceo/ical//2.0/EN
VERSION:2.0
CALSCALE:GREGORIAN
BEGIN:VEVENT
UID:8f520ca01171ea4074b4dba95a70da8f
DTSTAMP:20260425T220036Z
SUMMARY:Visita a la Sala de Disección y al Servicio de Donación de Cuerpo
 s
DESCRIPTION:Inscripción obligatoria\n\n\n\nInscripciones turno 10:30h\n\n\
 nInscripciones turno 11:45h\n\n\nInscripciones turno 13:00h\n\n\n\nVisita 
 a la Sala de Disección y al Servicio de Donación de Cuerpos para explica
 r su papel fundamental en la docencia y la investigación médica. \n\nP
 úblico: Adultos en general \n\nTipo de actividad: Visitas guiadas \n
 \nPlazas disponibles: 20 (por turno)\n\nDuración: 45' 
DTSTART;TZID=Europe/Madrid:20260509T103000
DTEND;TZID=Europe/Madrid:20260509T130000
LOCATION:Facultad
END:VEVENT
BEGIN:VTIMEZONE
TZID:Europe/Madrid
BEGIN:STANDARD
DTSTART:20260101T000036
TZNAME:CET
TZOFFSETTO:+0100
TZOFFSETFROM:+0100
END:STANDARD
BEGIN:DAYLIGHT
DTSTART:20260329T030000
TZNAME:CEST
TZOFFSETTO:+0200
TZOFFSETFROM:+0100
END:DAYLIGHT
BEGIN:STANDARD
DTSTART:20261025T020000
TZNAME:CET
TZOFFSETTO:+0100
TZOFFSETFROM:+0200
END:STANDARD
END:VTIMEZONE
END:VCALENDAR
