BEGIN:VCALENDAR
PRODID:-//eluceo/ical//2.0/EN
VERSION:2.0
CALSCALE:GREGORIAN
BEGIN:VEVENT
UID:71b1e4c6e5bf22830b28902651388528
DTSTAMP:20260425T204128Z
SUMMARY:Visita a los laboratorios de Cribado Neonatal de Cataluña y de dia
 gnóstico de Enfermedades Metabólicas Hereditarias
DESCRIPTION:Inscripción obligatoria\n\n\n\nInscripciones turno 10:30h\n\n\
 nInscripciones turno 11:45h\n\n\nInscripciones turno 13:00h\n\n\n\nVisita 
 guiada a los laboratorios de Errores Congénitos del Metabolismo del CDB\,
  donde se realiza el Cribado Neonatal en Cataluña\, y a otras áreas del 
 laboratorio para conocer las pruebas bioquímicas y genéticas para el dia
 gnóstico de enfermedades metabólicas hereditarias. \n\nPúblico: Adult
 os en general\, jóvenes y adolescentes \n\nTipo de actividad: Visitas 
 guiadas \n\nPlazas disponibles: 15 (por turno)\n\nDuración: 1h 
DTSTART;TZID=Europe/Madrid:20260509T103000
DTEND;TZID=Europe/Madrid:20260509T130000
LOCATION:Maternidad
END:VEVENT
BEGIN:VTIMEZONE
TZID:Europe/Madrid
BEGIN:STANDARD
DTSTART:20260101T224128
TZNAME:CET
TZOFFSETTO:+0100
TZOFFSETFROM:+0100
END:STANDARD
BEGIN:DAYLIGHT
DTSTART:20260329T030000
TZNAME:CEST
TZOFFSETTO:+0200
TZOFFSETFROM:+0100
END:DAYLIGHT
BEGIN:STANDARD
DTSTART:20261025T020000
TZNAME:CET
TZOFFSETTO:+0100
TZOFFSETFROM:+0200
END:STANDARD
END:VTIMEZONE
END:VCALENDAR
