BEGIN:VCALENDAR
PRODID:-//eluceo/ical//2.0/EN
VERSION:2.0
CALSCALE:GREGORIAN
BEGIN:VEVENT
UID:b3c6d2f61758e1103018d6e03c97e0a7
DTSTAMP:20260425T201307Z
SUMMARY:Visita al Laboratorio CORE del Centro de Diagnóstico Biomédico de
 l Hospital Clínic
DESCRIPTION:Inscripción obligatoria\n\n\n\nInscripciones turno 11:00h\n\n\
 nInscripciones turno 12:00h\n\n\nInscripciones turno 13:00h\n\n\n\nDescubr
 e el laboratorio CORE del Centro de Diagnóstico Biomédico del Hospital C
 línic Barcelona\, uno de los laboratorios hospitalarios más avanzados de
  Europa. Durante esta visita podrás conocer cómo funciona un sistema alt
 amente automatizado que integra todas las etapas del proceso analítico y 
 procesa miles de muestras cada día\, mejorando la rapidez del diagnóstic
 o y la seguridad de los pacientes. Una oportunidad para ver de cerca cómo
  la tecnología y la innovación transforman el diagnóstico médico \n\n
 Público: Para toda la familia \n\nTipo de actividad: Visitas guiadas
  \n\nPlazas disponibles: 10 (por turno)\n\nDuración: 45' 
DTSTART;TZID=Europe/Madrid:20260509T110000
DTEND;TZID=Europe/Madrid:20260509T130000
LOCATION:Hospital
END:VEVENT
BEGIN:VTIMEZONE
TZID:Europe/Madrid
BEGIN:STANDARD
DTSTART:20260101T221307
TZNAME:CET
TZOFFSETTO:+0100
TZOFFSETFROM:+0100
END:STANDARD
BEGIN:DAYLIGHT
DTSTART:20260329T030000
TZNAME:CEST
TZOFFSETTO:+0200
TZOFFSETFROM:+0100
END:DAYLIGHT
BEGIN:STANDARD
DTSTART:20261025T020000
TZNAME:CET
TZOFFSETTO:+0100
TZOFFSETFROM:+0200
END:STANDARD
END:VTIMEZONE
END:VCALENDAR
