BEGIN:VCALENDAR
PRODID:-//eluceo/ical//2.0/EN
VERSION:2.0
CALSCALE:GREGORIAN
BEGIN:VEVENT
UID:cf53b091ea279037f847b3af44b5bc4e
DTSTAMP:20260425T215013Z
SUMMARY:Visita el quirófano
DESCRIPTION:Inscripción obligatoria\n\n\n\nInscripciones turno 10:00h\n\n\
 nInscripciones turno 11:00h\n\n\nInscripciones turno 12:00h\n\n\nInscripci
 ones turno 13:00h\n\n\n\nActividad con visita al quirófano Optimus y demo
 straciones de simulación robótica\, simulación de equipos y soporte vit
 al básico (RCP). \n\nPúblico: Para toda la familia \n\nTipo de activ
 idad: Visitas guiadas \n\nPlazas disponibles: 12 (por turno)\n\nDuraci
 ón: 35' 
DTSTART;TZID=Europe/Madrid:20260509T100000
DTEND;TZID=Europe/Madrid:20260509T130000
LOCATION:Hospital
END:VEVENT
BEGIN:VTIMEZONE
TZID:Europe/Madrid
BEGIN:STANDARD
DTSTART:20260101T235013
TZNAME:CET
TZOFFSETTO:+0100
TZOFFSETFROM:+0100
END:STANDARD
BEGIN:DAYLIGHT
DTSTART:20260329T030000
TZNAME:CEST
TZOFFSETTO:+0200
TZOFFSETFROM:+0100
END:DAYLIGHT
BEGIN:STANDARD
DTSTART:20261025T020000
TZNAME:CET
TZOFFSETTO:+0100
TZOFFSETFROM:+0200
END:STANDARD
END:VTIMEZONE
END:VCALENDAR
