BEGIN:VCALENDAR
PRODID:-//eluceo/ical//2.0/EN
VERSION:2.0
CALSCALE:GREGORIAN
BEGIN:VEVENT
UID:6fedbe43cc4f9224a5df9435423383e3
DTSTAMP:20260425T203845Z
SUMMARY:Visita guiada: 120 años de la Facultad de Medicina
DESCRIPTION:Inscripción obligatoria\n\n\n\nInscripciones turno 10:15h\n\n\
 nInscripciones turno 11:15h\n\n\nInscripciones turno 12:15h\n\n\nInscripci
 ones turno 13:15h\n\n\n\nVisita guiada con un itinerario histórico por la
  Facultad de Medicina para conocer la evolución de la docencia y la prác
 tica médica a lo largo del tiempo. \n\nPúblico: Para toda la familia 
 \n\nTipo de actividad: Visitas guiadas \n\nPlazas disponibles: 25 (po
 r turno)\n\nDuración: 45' 
DTSTART;TZID=Europe/Madrid:20260509T101500
DTEND;TZID=Europe/Madrid:20260509T131500
LOCATION:Facultad
END:VEVENT
BEGIN:VTIMEZONE
TZID:Europe/Madrid
BEGIN:STANDARD
DTSTART:20260101T223845
TZNAME:CET
TZOFFSETTO:+0100
TZOFFSETFROM:+0100
END:STANDARD
BEGIN:DAYLIGHT
DTSTART:20260329T030000
TZNAME:CEST
TZOFFSETTO:+0200
TZOFFSETFROM:+0100
END:DAYLIGHT
BEGIN:STANDARD
DTSTART:20261025T020000
TZNAME:CET
TZOFFSETTO:+0100
TZOFFSETFROM:+0200
END:STANDARD
END:VTIMEZONE
END:VCALENDAR
