BEGIN:VCALENDAR
PRODID:-//eluceo/ical//2.0/EN
VERSION:2.0
CALSCALE:GREGORIAN
BEGIN:VEVENT
UID:f896cac8c69e4b9ed161c9df79c3050f
DTSTAMP:20260425T203635Z
SUMMARY:Voz saludable\, vida saludable: ven a cuidar tu voz
DESCRIPTION:Aprende a cuidar la voz\, detecta signos de alerta y prueba un 
 análisis vocal en tiempo real con micrófono y los programas PRAAT y VoxP
 lot. Descubre la calidad de tu voz y mejora tu bienestar vocal. \n\nPúbl
 ico: Adultos en general \n\nTipo de actividad: Carpas (en la calzada)
  \n\nHorario: 9:30-14:30 
DTSTART;TZID=Europe/Madrid:20260509T093000
DTEND;TZID=Europe/Madrid:20260509T143000
LOCATION:Casanova - Còrsega
END:VEVENT
BEGIN:VTIMEZONE
TZID:Europe/Madrid
BEGIN:STANDARD
DTSTART:20260101T223635
TZNAME:CET
TZOFFSETTO:+0100
TZOFFSETFROM:+0100
END:STANDARD
BEGIN:DAYLIGHT
DTSTART:20260329T030000
TZNAME:CEST
TZOFFSETTO:+0200
TZOFFSETFROM:+0100
END:DAYLIGHT
BEGIN:STANDARD
DTSTART:20261025T020000
TZNAME:CET
TZOFFSETTO:+0100
TZOFFSETFROM:+0200
END:STANDARD
END:VTIMEZONE
END:VCALENDAR
