BEGIN:VCALENDAR
PRODID:-//eluceo/ical//2.0/EN
VERSION:2.0
CALSCALE:GREGORIAN
BEGIN:VEVENT
UID:f17720b6f692f19d59e934521db2f909
DTSTAMP:20260423T203003Z
SUMMARY:Abans de morir voldria. Mur participatiu i tertúlia
DESCRIPTION:Activitat oberta a tothom amb un mur participatiu i tertúlies 
 de reflexió sobre la mort i el morir\, inspirada en el projecte “Before
  I die”. Fomenta parlar-ne amb naturalitat\, trencar tabús i expressar 
 desitjos amb respecte i caliu comunitari. \n\nPúblic: Per a tota la fam
 ília \n\nTipus d’activitat: Carpes (a la calçada) \n\nHorari: 9:30
 -14:30 
DTSTART;TZID=Europe/Madrid:20260509T093000
DTEND;TZID=Europe/Madrid:20260509T143000
LOCATION:Casanova - Provença
END:VEVENT
BEGIN:VTIMEZONE
TZID:Europe/Madrid
BEGIN:STANDARD
DTSTART:20260101T223003
TZNAME:CET
TZOFFSETTO:+0100
TZOFFSETFROM:+0100
END:STANDARD
BEGIN:DAYLIGHT
DTSTART:20260329T030000
TZNAME:CEST
TZOFFSETTO:+0200
TZOFFSETFROM:+0100
END:DAYLIGHT
BEGIN:STANDARD
DTSTART:20261025T020000
TZNAME:CET
TZOFFSETTO:+0100
TZOFFSETFROM:+0200
END:STANDARD
END:VTIMEZONE
END:VCALENDAR
