BEGIN:VCALENDAR
PRODID:-//eluceo/ical//2.0/EN
VERSION:2.0
CALSCALE:GREGORIAN
BEGIN:VEVENT
UID:b3e821f5189c92e09206847c88bf6d07
DTSTAMP:20260425T221302Z
SUMMARY:Actuació del Pony Menut
DESCRIPTION:Actuació del Pony Menut\, un espectacle familiar ple de músic
 a\, humor i participació\, pensat per a petits i grans. Una proposta lúd
 ica i propera que convida a cantar\, ballar i gaudir plegats en un ambient
  festiu i acollidor. \n\nPúblic: Per a tota la família \n\nTipus d’
 activitat: Escenari musical \n\nHorari: 11:00h 
DTSTART;TZID=Europe/Madrid:20260509T110000
DTEND;TZID=Europe/Madrid:20260509T120000
LOCATION:Casanova - Còrsega
END:VEVENT
BEGIN:VTIMEZONE
TZID:Europe/Madrid
BEGIN:STANDARD
DTSTART:20260101T001302
TZNAME:CET
TZOFFSETTO:+0100
TZOFFSETFROM:+0100
END:STANDARD
BEGIN:DAYLIGHT
DTSTART:20260329T030000
TZNAME:CEST
TZOFFSETTO:+0200
TZOFFSETFROM:+0100
END:DAYLIGHT
BEGIN:STANDARD
DTSTART:20261025T020000
TZNAME:CET
TZOFFSETTO:+0100
TZOFFSETFROM:+0200
END:STANDARD
END:VTIMEZONE
END:VCALENDAR
