BEGIN:VCALENDAR
PRODID:-//eluceo/ical//2.0/EN
VERSION:2.0
CALSCALE:GREGORIAN
BEGIN:VEVENT
UID:270c9ce55fb10b9bfdf5753b3a053588
DTSTAMP:20260425T221212Z
SUMMARY:Actuació Jimband
DESCRIPTION:Actuació de Jimband\, una proposta musical enèrgica i partici
 pativa que combina ritme\, diversió i interacció amb el públic. Un espe
 ctacle pensat per fer gaudir totes les edats\, convidant a moure’s\, esc
 oltar i viure la música en directe en un ambient festiu. \n\nPúblic: P
 er a tota la família \n\nTipus d’activitat: Escenari musical \n\nHor
 ari: 12:45h 
DTSTART;TZID=Europe/Madrid:20260509T124500
DTEND;TZID=Europe/Madrid:20260509T133000
LOCATION:Casanova - Còrsega
END:VEVENT
BEGIN:VTIMEZONE
TZID:Europe/Madrid
BEGIN:STANDARD
DTSTART:20260101T001212
TZNAME:CET
TZOFFSETTO:+0100
TZOFFSETFROM:+0100
END:STANDARD
BEGIN:DAYLIGHT
DTSTART:20260329T030000
TZNAME:CEST
TZOFFSETTO:+0200
TZOFFSETFROM:+0100
END:DAYLIGHT
BEGIN:STANDARD
DTSTART:20261025T020000
TZNAME:CET
TZOFFSETTO:+0100
TZOFFSETFROM:+0200
END:STANDARD
END:VTIMEZONE
END:VCALENDAR
