BEGIN:VCALENDAR
PRODID:-//eluceo/ical//2.0/EN
VERSION:2.0
CALSCALE:GREGORIAN
BEGIN:VEVENT
UID:382240df047289dd2ae4ef3a214575e9
DTSTAMP:20260425T215410Z
SUMMARY:Amb els nostres diners
DESCRIPTION:Què faries si t'oferrissin diners per prioritzar prestacions d
 els sistema de salut? Quins criteries seguirires? Et donem "diners simbòl
 ics" perquè els distribueixis segons la teva escala de priorització. \n
 \nPúblic: Adults en general \n\nTipus d’activitat: Carpes (a la Pla
 ça) \n\nHorari: 9:30-14:30 
DTSTART;TZID=Europe/Madrid:20260509T093000
DTEND;TZID=Europe/Madrid:20260509T143000
LOCATION:Casanova - Rosselló
END:VEVENT
BEGIN:VTIMEZONE
TZID:Europe/Madrid
BEGIN:STANDARD
DTSTART:20260101T235410
TZNAME:CET
TZOFFSETTO:+0100
TZOFFSETFROM:+0100
END:STANDARD
BEGIN:DAYLIGHT
DTSTART:20260329T030000
TZNAME:CEST
TZOFFSETTO:+0200
TZOFFSETFROM:+0100
END:DAYLIGHT
BEGIN:STANDARD
DTSTART:20261025T020000
TZNAME:CET
TZOFFSETTO:+0100
TZOFFSETFROM:+0200
END:STANDARD
END:VTIMEZONE
END:VCALENDAR
