BEGIN:VCALENDAR
PRODID:-//eluceo/ical//2.0/EN
VERSION:2.0
CALSCALE:GREGORIAN
BEGIN:VEVENT
UID:7cf107c0f59740e3d83d8fce47d48f80
DTSTAMP:20260425T222021Z
SUMMARY:#APlenaVista: aprendre a mirar la salut hepàtica en l’atenció a
 l VIH
DESCRIPTION:Taula rodona #APlenaVista: reflexió sobre la salut hepàtica e
 n l’atenció al VIH\, abordant la seva visibilitat\, prioritat i comunic
 ació. Hi participen investigadors\, especialistes en VIH i representants 
 comunitaris per explorar canvis pràctics i accionable \n\nPúblic: Adult
 s en general \n\nTipus d’activitat: Les veus de la salut \n\nHorari: 1
 1:30 
DTSTART;TZID=Europe/Madrid:20260509T113000
DTEND;TZID=Europe/Madrid:20260509T120000
LOCATION:Casanova - Provença
END:VEVENT
BEGIN:VTIMEZONE
TZID:Europe/Madrid
BEGIN:STANDARD
DTSTART:20260101T002021
TZNAME:CET
TZOFFSETTO:+0100
TZOFFSETFROM:+0100
END:STANDARD
BEGIN:DAYLIGHT
DTSTART:20260329T030000
TZNAME:CEST
TZOFFSETTO:+0200
TZOFFSETFROM:+0100
END:DAYLIGHT
BEGIN:STANDARD
DTSTART:20261025T020000
TZNAME:CET
TZOFFSETTO:+0100
TZOFFSETFROM:+0200
END:STANDARD
END:VTIMEZONE
END:VCALENDAR
