BEGIN:VCALENDAR
PRODID:-//eluceo/ical//2.0/EN
VERSION:2.0
CALSCALE:GREGORIAN
BEGIN:VEVENT
UID:2a4a76a170d7b02ee99bccc67ea9e198
DTSTAMP:20260425T221825Z
SUMMARY:Aprèn a prevenir les fractures per fragilitat
DESCRIPTION:Taula informativa i taller pràctic de prevenció de caigudes i
  fractures\, sobretot dirigit a la gent gran. Les caigudes són un problem
 a important de salut pública. Per això\, és necessari informar la pobla
 ció sobre les seves conseqüències i la seva prevenció. \n\nPúblic: 
 Adults en general \n\nTipus d’activitat: Carpes (a la calçada) \n\nH
 orari: 9:30-14:30 
DTSTART;TZID=Europe/Madrid:20260509T093000
DTEND;TZID=Europe/Madrid:20260509T143000
LOCATION:Casanova - Còrsega
END:VEVENT
BEGIN:VTIMEZONE
TZID:Europe/Madrid
BEGIN:STANDARD
DTSTART:20260101T001825
TZNAME:CET
TZOFFSETTO:+0100
TZOFFSETFROM:+0100
END:STANDARD
BEGIN:DAYLIGHT
DTSTART:20260329T030000
TZNAME:CEST
TZOFFSETTO:+0200
TZOFFSETFROM:+0100
END:DAYLIGHT
BEGIN:STANDARD
DTSTART:20261025T020000
TZNAME:CET
TZOFFSETTO:+0100
TZOFFSETFROM:+0200
END:STANDARD
END:VTIMEZONE
END:VCALENDAR
