BEGIN:VCALENDAR
PRODID:-//eluceo/ical//2.0/EN
VERSION:2.0
CALSCALE:GREGORIAN
BEGIN:VEVENT
UID:69ab85c6331d8ef56a5ef9a827f5a9e0
DTSTAMP:20260425T221355Z
SUMMARY:Bacteris\, parcs infantils i prevenció
DESCRIPTION:El projecte RAMBLA investiga si els bacteris dels parcs infanti
 ls de Barcelona poden causar infeccions gastrointestinals en infants\, des
  de la visió d’Una Sola Salut\, i promou la participació ciutadana en 
 mesures de prevenció. \n\nPúblic: Adults en general \n\nTipus d’acti
 vitat: Les veus de la salut \n\nHorari: 11:00 
DTSTART;TZID=Europe/Madrid:20260509T110000
DTEND;TZID=Europe/Madrid:20260509T113000
LOCATION:Casanova - Provença
END:VEVENT
BEGIN:VTIMEZONE
TZID:Europe/Madrid
BEGIN:STANDARD
DTSTART:20260101T001355
TZNAME:CET
TZOFFSETTO:+0100
TZOFFSETFROM:+0100
END:STANDARD
BEGIN:DAYLIGHT
DTSTART:20260329T030000
TZNAME:CEST
TZOFFSETTO:+0200
TZOFFSETFROM:+0100
END:DAYLIGHT
BEGIN:STANDARD
DTSTART:20261025T020000
TZNAME:CET
TZOFFSETTO:+0100
TZOFFSETFROM:+0200
END:STANDARD
END:VTIMEZONE
END:VCALENDAR
