BEGIN:VCALENDAR
PRODID:-//eluceo/ical//2.0/EN
VERSION:2.0
CALSCALE:GREGORIAN
BEGIN:VEVENT
UID:d9ca81f973e0d0a0044f1b28e0144f6f
DTSTAMP:20260425T221824Z
SUMMARY:Bioimpressió 3D en acció: tractant malalties neurodegeneratives
DESCRIPTION:Taller familiar de bioimpressió 3D: descobreix com funciona\, 
 observa demostracions i estructures impreses\, participa en un mural col·
 lectiu i jocs interactius\, i entén com aquesta tecnologia pot avançar e
 n malalties neurodegeneratives. \n\nPúblic: Per a tota la família \n\
 nTipus d’activitat: Carpes (a la calçada) \n\nHorari: 9:30-14:30 
DTSTART;TZID=Europe/Madrid:20260509T093000
DTEND;TZID=Europe/Madrid:20260509T143000
LOCATION:Casanova - Còrsega
END:VEVENT
BEGIN:VTIMEZONE
TZID:Europe/Madrid
BEGIN:STANDARD
DTSTART:20260101T001824
TZNAME:CET
TZOFFSETTO:+0100
TZOFFSETFROM:+0100
END:STANDARD
BEGIN:DAYLIGHT
DTSTART:20260329T030000
TZNAME:CEST
TZOFFSETTO:+0200
TZOFFSETFROM:+0100
END:DAYLIGHT
BEGIN:STANDARD
DTSTART:20261025T020000
TZNAME:CET
TZOFFSETTO:+0100
TZOFFSETFROM:+0200
END:STANDARD
END:VTIMEZONE
END:VCALENDAR
