BEGIN:VCALENDAR
PRODID:-//eluceo/ical//2.0/EN
VERSION:2.0
CALSCALE:GREGORIAN
BEGIN:VEVENT
UID:f207857977cdfe4f5d04b71648c75324
DTSTAMP:20260425T221441Z
SUMMARY:Caminant per a la salut pulmonar
DESCRIPTION:Inscripció obligatòria\n\n\n\nInscripcions torn 9:30h\n\n\n\n
 Una caminada guiada i participativa que connectarà el futur i el presen
 t de l’Hospital Clínic. Sortirem des del Parc d'Investigació Biomèdic
 a de Barcelona (PRBB) -C/ Doctor Aiguader\, 88- fins a l’actual centre 
 de l’Eixample Esquerra\, recorrent la ciutat a peu i descobrint aquest i
 tinerari simbòlic. L’activitat es farà en grups reduïts\, acompanyats
  per voluntaris\, en un ambient proper i accessible. Una experiència per 
 caminar\, conversar i imaginar plegats el Clínic del futur. \n\nPúblic:
  Per a tota la família \n\nTipus d’activitat: Activitat esportiva \
 n\nPunt de trobada: Parc d'Investigació Biomèdica de Barcelona (PRBB). C
 / Doctor Aiguader\, 88
DTSTART;TZID=Europe/Madrid:20260509T093000
DTEND;TZID=Europe/Madrid:20260509T103000
LOCATION:Caminada per Barcelona
END:VEVENT
BEGIN:VTIMEZONE
TZID:Europe/Madrid
BEGIN:STANDARD
DTSTART:20260101T001441
TZNAME:CET
TZOFFSETTO:+0100
TZOFFSETFROM:+0100
END:STANDARD
BEGIN:DAYLIGHT
DTSTART:20260329T030000
TZNAME:CEST
TZOFFSETTO:+0200
TZOFFSETFROM:+0100
END:DAYLIGHT
BEGIN:STANDARD
DTSTART:20261025T020000
TZNAME:CET
TZOFFSETTO:+0100
TZOFFSETFROM:+0200
END:STANDARD
END:VTIMEZONE
END:VCALENDAR
