BEGIN:VCALENDAR
PRODID:-//eluceo/ical//2.0/EN
VERSION:2.0
CALSCALE:GREGORIAN
BEGIN:VEVENT
UID:4a83b92d22afb362ef742fc3b5118e2a
DTSTAMP:20260425T221948Z
SUMMARY:Càncer de bufeta: detecció precoç i recerca en cribratge (Projec
 te FIS)
DESCRIPTION:Informa’t sobre la malaltia\, descobreix el nostre projecte d
 e recerca i participa com a voluntari: activitat divulgativa clara i acces
 sible per acostar la ciència a la ciutadania. \n\nPúblic: Adults en ge
 neral \n\nTipus d’activitat: Carpes (a la calçada) \n\nHorari: 9:30
 -14:30 
DTSTART;TZID=Europe/Madrid:20260509T093000
DTEND;TZID=Europe/Madrid:20260509T143000
LOCATION:Casanova - Còrsega
END:VEVENT
BEGIN:VTIMEZONE
TZID:Europe/Madrid
BEGIN:STANDARD
DTSTART:20260101T001948
TZNAME:CET
TZOFFSETTO:+0100
TZOFFSETFROM:+0100
END:STANDARD
BEGIN:DAYLIGHT
DTSTART:20260329T030000
TZNAME:CEST
TZOFFSETTO:+0200
TZOFFSETFROM:+0100
END:DAYLIGHT
BEGIN:STANDARD
DTSTART:20261025T020000
TZNAME:CET
TZOFFSETTO:+0100
TZOFFSETFROM:+0200
END:STANDARD
END:VTIMEZONE
END:VCALENDAR
