BEGIN:VCALENDAR
PRODID:-//eluceo/ical//2.0/EN
VERSION:2.0
CALSCALE:GREGORIAN
BEGIN:VEVENT
UID:cdeaa053a315dab57d23331380cae5b1
DTSTAMP:20260425T221431Z
SUMMARY:Cantem Junts\, Fem Salut!
DESCRIPTION:Concert-taller amb el Cor Clínic adreçat a totes les edats\, 
 que combina música i participació activa. Les cantades al Hall convidara
 n el públic a sumar-se a l’experiència\, creant un espai compartit de 
 veu\, emoció i convivència. \n\nPúblic: Per a tota la família \n\nT
 ipus d’activitat: Concert \n\nHorari: 11h\, 13h 
DTSTART;TZID=Europe/Madrid:20260509T110000
DTEND;TZID=Europe/Madrid:20260509T130000
LOCATION:Vestíbul de l'Hospital
END:VEVENT
BEGIN:VTIMEZONE
TZID:Europe/Madrid
BEGIN:STANDARD
DTSTART:20260101T001431
TZNAME:CET
TZOFFSETTO:+0100
TZOFFSETFROM:+0100
END:STANDARD
BEGIN:DAYLIGHT
DTSTART:20260329T030000
TZNAME:CEST
TZOFFSETTO:+0200
TZOFFSETFROM:+0100
END:DAYLIGHT
BEGIN:STANDARD
DTSTART:20261025T020000
TZNAME:CET
TZOFFSETTO:+0100
TZOFFSETFROM:+0200
END:STANDARD
END:VTIMEZONE
END:VCALENDAR
