BEGIN:VCALENDAR
PRODID:-//eluceo/ical//2.0/EN
VERSION:2.0
CALSCALE:GREGORIAN
BEGIN:VEVENT
UID:b66012623b9b6b08b1df24398bf03210
DTSTAMP:20260425T221649Z
SUMMARY:Classe oberta de força: activa els teus músculs
DESCRIPTION:Inscripció obligatòria\n\n\n\nInscripcions torn 10:15h\n\n\n\
 nVine a provar una sessió oberta d’exercicis de força guiats per profe
 ssionals. Amb moviments senzills i adaptats a tots els nivells\, descobrir
 às com treballar la musculatura de manera segura i divertida. Una activit
 at per guanyar força\, energia i salut. \n\nPúblic: Adults en general
  \n\nTipus d’activitat: Escenari esportiu i cultural\n\nAmb la col·la
 boració de:\n\n
DTSTART;TZID=Europe/Madrid:20260509T101500
DTEND;TZID=Europe/Madrid:20260509T110000
LOCATION:Casanova - Còrsega
END:VEVENT
BEGIN:VTIMEZONE
TZID:Europe/Madrid
BEGIN:STANDARD
DTSTART:20260101T001649
TZNAME:CET
TZOFFSETTO:+0100
TZOFFSETFROM:+0100
END:STANDARD
BEGIN:DAYLIGHT
DTSTART:20260329T030000
TZNAME:CEST
TZOFFSETTO:+0200
TZOFFSETFROM:+0100
END:DAYLIGHT
BEGIN:STANDARD
DTSTART:20261025T020000
TZNAME:CET
TZOFFSETTO:+0100
TZOFFSETFROM:+0200
END:STANDARD
END:VTIMEZONE
END:VCALENDAR
