BEGIN:VCALENDAR
PRODID:-//eluceo/ical//2.0/EN
VERSION:2.0
CALSCALE:GREGORIAN
BEGIN:VEVENT
UID:1e3156fc17088c0918c84b4f93f9df63
DTSTAMP:20260425T221722Z
SUMMARY:Classe oberta de zumba: a moure l'esquelet!
DESCRIPTION:Inscripció obligatòria\n\n\n\nInscripcions torn 9:30h\n\n\n\n
 Vine a apracticar zumba a l'escenari d'activitat física. Fes salut ballan
 t coreografies senzilles\, dinàmiques i divertides! \n\nPúblic: Adults
  en general \n\nTipus d’activitat: Escenari esportiu i cultural \n\nA
 mb la col·laboració de:\n\n
DTSTART;TZID=Europe/Madrid:20260509T093000
DTEND;TZID=Europe/Madrid:20260509T101500
LOCATION:Casanova - Còrsega
END:VEVENT
BEGIN:VTIMEZONE
TZID:Europe/Madrid
BEGIN:STANDARD
DTSTART:20260101T001722
TZNAME:CET
TZOFFSETTO:+0100
TZOFFSETFROM:+0100
END:STANDARD
BEGIN:DAYLIGHT
DTSTART:20260329T030000
TZNAME:CEST
TZOFFSETTO:+0200
TZOFFSETFROM:+0100
END:DAYLIGHT
BEGIN:STANDARD
DTSTART:20261025T020000
TZNAME:CET
TZOFFSETTO:+0100
TZOFFSETFROM:+0200
END:STANDARD
END:VTIMEZONE
END:VCALENDAR
