BEGIN:VCALENDAR
PRODID:-//eluceo/ical//2.0/EN
VERSION:2.0
CALSCALE:GREGORIAN
BEGIN:VEVENT
UID:8be744d3a0bc212c7e67112224aa661b
DTSTAMP:20260425T221522Z
SUMMARY:Classe oberta i ballada de swing
DESCRIPTION:Vine a gaudir del ball de swing amb Swing Maniacs\, amenitzat p
 er la banda amateur de l'escola Maniacs' Band. Ens faran moure'ns i gaudir
  de la millor música swing per ballar. I si mai has provat aquest ball\, 
 vine a provar la classe oberta de Swing Solo – Solo Charleston\, un ball
  enèrgic i divertit dels anys 20 amb origen afroamericà a Harlem\, Nova 
 York.\n\nPúblic: Adults en general \n\nTipus d’activitat: Escenari e
 sportiu i cultural \n\nHorari: 13:45h 
DTSTART;TZID=Europe/Madrid:20260509T134500
DTEND;TZID=Europe/Madrid:20260509T143000
LOCATION:Casanova - Còrsega
END:VEVENT
BEGIN:VTIMEZONE
TZID:Europe/Madrid
BEGIN:STANDARD
DTSTART:20260101T001522
TZNAME:CET
TZOFFSETTO:+0100
TZOFFSETFROM:+0100
END:STANDARD
BEGIN:DAYLIGHT
DTSTART:20260329T030000
TZNAME:CEST
TZOFFSETTO:+0200
TZOFFSETFROM:+0100
END:DAYLIGHT
BEGIN:STANDARD
DTSTART:20261025T020000
TZNAME:CET
TZOFFSETTO:+0100
TZOFFSETFROM:+0200
END:STANDARD
END:VTIMEZONE
END:VCALENDAR
