BEGIN:VCALENDAR
PRODID:-//eluceo/ical//2.0/EN
VERSION:2.0
CALSCALE:GREGORIAN
BEGIN:VEVENT
UID:95fe1cd92e91a844f9ba72a60eb3ac11
DTSTAMP:20260425T221949Z
SUMMARY:Clima\, salut i migracions: la cultura com a motor de mobilització
  social
DESCRIPTION:Descobreix el projecte sobre canvi climàtic: concurs i exposic
 ió de fotos sobre l’impacte a Barcelona i el Sahel. \n\nPúblic: Adul
 ts en general \n\nTipus d’activitat: Carpes (a la calçada) \n\nHorar
 i: 9:30-14:30 
DTSTART;TZID=Europe/Madrid:20260509T093000
DTEND;TZID=Europe/Madrid:20260509T143000
LOCATION:Casanova - Provença
END:VEVENT
BEGIN:VTIMEZONE
TZID:Europe/Madrid
BEGIN:STANDARD
DTSTART:20260101T001949
TZNAME:CET
TZOFFSETTO:+0100
TZOFFSETFROM:+0100
END:STANDARD
BEGIN:DAYLIGHT
DTSTART:20260329T030000
TZNAME:CEST
TZOFFSETTO:+0200
TZOFFSETFROM:+0100
END:DAYLIGHT
BEGIN:STANDARD
DTSTART:20261025T020000
TZNAME:CET
TZOFFSETTO:+0100
TZOFFSETFROM:+0200
END:STANDARD
END:VTIMEZONE
END:VCALENDAR
