BEGIN:VCALENDAR
PRODID:-//eluceo/ical//2.0/EN
VERSION:2.0
CALSCALE:GREGORIAN
BEGIN:VEVENT
UID:b2bc288b0e91f8e00b1271e76206eb0a
DTSTAMP:20260424T202905Z
SUMMARY:Concert d’agraïment per a tots els professionals sanitaris
DESCRIPTION:Un quartet de corda de l’Orquestra del Gran Teatre del Liceu 
 oferirà aquest divendres un concert des d’una de les UCI de l’Hospita
 l Clínic de Barcelona que ha acollit pacients amb la COVID-19 durant els 
 mesos més intensos. Aquest concert\, que serà retransmès a través del 
 Canal de youtube de l’Hospital Clínic\, vol ser un homenatge a tots el
 s professionals de l’Hospital durant l’etapa de la COVID-19.\n\nDurant
  el concert\, s'oferran peces del quartet de corda en La menor de Fritz Kr
 eisler i s'interpretaran els moviments: Fantasía\, Scherzo i Fínale. El 
 quartet de corda de l’Orquestra del Gran Teatre del Liceu està format
  per: Eva Pyrek (violí I)\, Kalina Macuta (violí II)\, Frank Tollini (v
 iola) i Cristoforo Pestalozzi (violoncel).\n\nAbans de la interpretació\,
  el director general de l’Hospital Clínic de Barcelona\, el Dr. Josep M
 aria Campistol i el director general del Gran Teatre del Liceu\, Valentí 
 Oviedo\, adreçaran unes paraules d’agraïment.\n\n
DTSTART;VALUE=DATE:20200710
LOCATION:Hospital Clínic de Barcelona. C/Villarroel\, 170
END:VEVENT
BEGIN:VTIMEZONE
TZID:Europe/Madrid
BEGIN:STANDARD
DTSTART:20260101T222905
TZNAME:CET
TZOFFSETTO:+0100
TZOFFSETFROM:+0100
END:STANDARD
BEGIN:DAYLIGHT
DTSTART:20260329T030000
TZNAME:CEST
TZOFFSETTO:+0200
TZOFFSETFROM:+0100
END:DAYLIGHT
BEGIN:STANDARD
DTSTART:20261025T020000
TZNAME:CET
TZOFFSETTO:+0100
TZOFFSETFROM:+0200
END:STANDARD
END:VTIMEZONE
END:VCALENDAR
