BEGIN:VCALENDAR
PRODID:-//eluceo/ical//2.0/EN
VERSION:2.0
CALSCALE:GREGORIAN
BEGIN:VEVENT
UID:a52f6c3ed2a58082b1ee62f90c96b0c1
DTSTAMP:20260423T174405Z
SUMMARY:Consells per millorar la salut bucodental
DESCRIPTION:Aprèn tècniques d’higiene oral\, prevenció de càries i ma
 lalties de genives\, ús correcte de raspall i seda dental\, amb demostrac
 ions pràctiques i recomanacions personalitzades per a totes les edats. \
 n\nPúblic: Per a tota la família \n\nTipus d’activitat: Carpes (a l
 a calçada) \n\nHorari: 9:30-14:30 
DTSTART;TZID=Europe/Madrid:20260509T093000
DTEND;TZID=Europe/Madrid:20260509T143000
LOCATION:Casanova - Còrsega
END:VEVENT
BEGIN:VTIMEZONE
TZID:Europe/Madrid
BEGIN:STANDARD
DTSTART:20260101T194405
TZNAME:CET
TZOFFSETTO:+0100
TZOFFSETFROM:+0100
END:STANDARD
BEGIN:DAYLIGHT
DTSTART:20260329T030000
TZNAME:CEST
TZOFFSETTO:+0200
TZOFFSETFROM:+0100
END:DAYLIGHT
BEGIN:STANDARD
DTSTART:20261025T020000
TZNAME:CET
TZOFFSETTO:+0100
TZOFFSETFROM:+0200
END:STANDARD
END:VTIMEZONE
END:VCALENDAR
