BEGIN:VCALENDAR
PRODID:-//eluceo/ical//2.0/EN
VERSION:2.0
CALSCALE:GREGORIAN
BEGIN:VEVENT
UID:cbec26a79bd02c629920a839060ed1fe
DTSTAMP:20260425T221754Z
SUMMARY:Construïm junts un futur més saludable i sostenible
DESCRIPTION:Inscripció obligatòria\n\n\n\nInscripcions torn 10:00h\n\n\nI
 nscripcions torn 11:00h\n\n\nInscripcions torn 12:00h\n\n\nInscripcions to
 rn 13:00h\n\n\n\nActivitat artística participativa que culminarà en la c
 reació d’un mural col·lectiu de gran format al Campus Clínic\, com a 
 símbol del compromís compartit amb la sostenibilitat i la salut.\n\nL'ob
 ra\, concebuda artísticament per Patricia Trujillo en el seu Atelier Sant
  Gervasi\, es materialitzarà al llarg de la jornada\, on els infants\, fa
 mílies i visitants podran sumar-se al procés creatiu aportant colors i f
 ormes al mural. D'aquesta manera\, es convida a través de l’art a refle
 xionar sobre la relació entre sostenibilitat i salut i cada intervenció 
 individual esdevé part d’una obra col·lectiva\, que posa en valor la i
 mportància de construir plegats un futur més sostenible.\n\nPatricia Tru
 jillo és pintora i artista plàstica\, amb una trajectòria centrada en l
 a pintura figurativa i l’expressió del color\, i una àmplia experiènc
 ia expositiva internacional. Ha exposat en galeries internacionals\, com G
 alería Azur a Berlín i Nova York\, i és fundadora i directora artístic
 a de l’Atelier Sant Gervasi\, un espai dedicat a la creació\, l’exhib
 ició i la formació artística.\n\nCom hi pots participar?\n\nActivitat d
 irigida on podrà participar tota la família pintant i retallant il·lust
 racions que després ompliran de color i formes el mural.  \n \n\nPúbli
 c: Per a tota la família \n\nTipus d’activitat: Carpes (a la Plaça)
  
DTSTART;TZID=Europe/Madrid:20260509T100000
DTEND;TZID=Europe/Madrid:20260509T140000
LOCATION:Casanova - Rosselló
END:VEVENT
BEGIN:VTIMEZONE
TZID:Europe/Madrid
BEGIN:STANDARD
DTSTART:20260101T001754
TZNAME:CET
TZOFFSETTO:+0100
TZOFFSETFROM:+0100
END:STANDARD
BEGIN:DAYLIGHT
DTSTART:20260329T030000
TZNAME:CEST
TZOFFSETTO:+0200
TZOFFSETFROM:+0100
END:DAYLIGHT
BEGIN:STANDARD
DTSTART:20261025T020000
TZNAME:CET
TZOFFSETTO:+0100
TZOFFSETFROM:+0200
END:STANDARD
END:VTIMEZONE
END:VCALENDAR
