BEGIN:VCALENDAR
PRODID:-//eluceo/ical//2.0/EN
VERSION:2.0
CALSCALE:GREGORIAN
BEGIN:VEVENT
UID:f6b52ee825af940dfb6b0f262cde811f
DTSTAMP:20260426T000204Z
SUMMARY:Construint el futur junts: la participació al Nou Campus de Salut 
 Clínic-UB
DESCRIPTION:El Nou Campus de Salut Clínic-UB representa una transformació
  històrica i una oportunitat única per consolidar un ecosistema de salut
  de referència a Europa. Aquest projecte estratègic no només redefinir
 à l’espai físic de l’assistència\, la docència i la recerca\, sin
 ó que també aspira a establir un nou paradigma de col·laboració i sine
 rgia entre tots els actors implicats.\n\nCoordinadors: Anne-Sophie Gresle 
 – Ramon Canal\n\nEl programa es publicarà properament.
DTSTART;TZID=Europe/Madrid:20260629T090000
DTEND;TZID=Europe/Madrid:20260629T140000
LOCATION:Seu Villarroel. C/ Villarroel\, 170. 08036. Barcelona
END:VEVENT
BEGIN:VTIMEZONE
TZID:Europe/Madrid
BEGIN:STANDARD
DTSTART:20260101T020204
TZNAME:CET
TZOFFSETTO:+0100
TZOFFSETFROM:+0100
END:STANDARD
BEGIN:DAYLIGHT
DTSTART:20260329T030000
TZNAME:CEST
TZOFFSETTO:+0200
TZOFFSETFROM:+0100
END:DAYLIGHT
BEGIN:STANDARD
DTSTART:20261025T020000
TZNAME:CET
TZOFFSETTO:+0100
TZOFFSETFROM:+0200
END:STANDARD
END:VTIMEZONE
END:VCALENDAR
