BEGIN:VCALENDAR
PRODID:-//eluceo/ical//2.0/EN
VERSION:2.0
CALSCALE:GREGORIAN
BEGIN:VEVENT
UID:bf61cde62bec45ad35c73c26571253f9
DTSTAMP:20260425T221433Z
SUMMARY:Contes i activitats saludables
DESCRIPTION:Espai taller per a infants de fins a 12 anys amb contes i activ
 itats plàstiques per aprendre normes bàsiques de fotoprotecció i foment
 ar una relació saludable amb el sol. S’organitza en torns d’una hora 
 amb una activitat narrativa i una de creativa. \n\nPúblic: Infants\, pe
 r a tota la família \n\nTipus d’activitat: Carpes (a la calçada) \n
 \nHorari: 9:30-14:30 
DTSTART;TZID=Europe/Madrid:20260509T093000
DTEND;TZID=Europe/Madrid:20260509T143000
LOCATION:Casanova - Còrsega
END:VEVENT
BEGIN:VTIMEZONE
TZID:Europe/Madrid
BEGIN:STANDARD
DTSTART:20260101T001433
TZNAME:CET
TZOFFSETTO:+0100
TZOFFSETFROM:+0100
END:STANDARD
BEGIN:DAYLIGHT
DTSTART:20260329T030000
TZNAME:CEST
TZOFFSETTO:+0200
TZOFFSETFROM:+0100
END:DAYLIGHT
BEGIN:STANDARD
DTSTART:20261025T020000
TZNAME:CET
TZOFFSETTO:+0100
TZOFFSETFROM:+0200
END:STANDARD
END:VTIMEZONE
END:VCALENDAR
