BEGIN:VCALENDAR
PRODID:-//eluceo/ical//2.0/EN
VERSION:2.0
CALSCALE:GREGORIAN
BEGIN:VEVENT
UID:c982879928dda0fa612b02ea04b1b823
DTSTAMP:20260424T234708Z
SUMMARY:Converses Translacionals Salut i Immunitat IDIBAPS
DESCRIPTION:Els ponents realitzaran un debat sobre el paper de la fibrosi
  a les malalties mediades immunològicament\, on analitzarem vies patogè
 niques\, tècniques de quantificació i potencials tractaments. Partiran d
 e la visió de la fibrosi a l’òrgan objecte d’estudi pel seu grup per
 ò l’objectiu serà cercar aspectes comuns o transversals mitjançant la
  resposta a les següents 3 preguntes:\n\n1- Quins són els elements claus
  que condueixen a l'alteració de la cicatrització i conseqüent fibrosis
  de l'òrgan (xarxes cel·lular\, metabòlica\, genètica i ambiental)?\n\
 n2- Com es pot quantificar la fibrosi i quin abordatge faria servir per ut
 ilitzar aquestes eines en l'avaluació de la resposta al tractament?\n\n3-
  Segons la seva opinió\, quines (i per què) serien les dianes amb més p
 otencial terapèutic?\n\nEls ponents seran els següents:\n\nDra. Maria C.
  Londoño - malaltia hepàtica\n\nDr. Julián Panés - malaltia inflamat
 òria intestinal\n\nDr. Jacobo Sellarés - malaltia pulmonar\n\nDr. Luis 
 F. Quintana - malaltia renal \n\n
DTSTART;VALUE=DATE:20210408
LOCATION:
END:VEVENT
BEGIN:VTIMEZONE
TZID:Europe/Madrid
BEGIN:STANDARD
DTSTART:20260101T014708
TZNAME:CET
TZOFFSETTO:+0100
TZOFFSETFROM:+0100
END:STANDARD
BEGIN:DAYLIGHT
DTSTART:20260329T030000
TZNAME:CEST
TZOFFSETTO:+0200
TZOFFSETFROM:+0100
END:DAYLIGHT
BEGIN:STANDARD
DTSTART:20261025T020000
TZNAME:CET
TZOFFSETTO:+0100
TZOFFSETFROM:+0200
END:STANDARD
END:VTIMEZONE
END:VCALENDAR
