BEGIN:VCALENDAR
PRODID:-//eluceo/ical//2.0/EN
VERSION:2.0
CALSCALE:GREGORIAN
BEGIN:VEVENT
UID:b15c1445e9aae0b258ac5ba3255a1ecb
DTSTAMP:20260425T221722Z
SUMMARY:Converteix-te en científic: experiments de laboratori biomèdic
DESCRIPTION:Taller pràctic on els participants es transformen en científi
 cs d’un laboratori biomèdic. A través d’experiments amb anticossos\,
  observació al microscopi i la simulació d’una centrifugació de la sa
 ng\, descobriran com els investigadors diagnostiquen malalties i estudien 
 els components sanguinis. Una experiència participativa que apropa el fun
 cionament real dels laboratoris científics. \n\nPúblic: Per a tota la 
 família \n\nTipus d’activitat: Tallers de salut i ciència \n\nHorar
 i: 9:30h-14:30h 
DTSTART;TZID=Europe/Madrid:20260509T093000
DTEND;TZID=Europe/Madrid:20260509T143000
LOCATION:Casanova - Rosselló
END:VEVENT
BEGIN:VTIMEZONE
TZID:Europe/Madrid
BEGIN:STANDARD
DTSTART:20260101T001722
TZNAME:CET
TZOFFSETTO:+0100
TZOFFSETFROM:+0100
END:STANDARD
BEGIN:DAYLIGHT
DTSTART:20260329T030000
TZNAME:CEST
TZOFFSETTO:+0200
TZOFFSETFROM:+0100
END:DAYLIGHT
BEGIN:STANDARD
DTSTART:20261025T020000
TZNAME:CET
TZOFFSETTO:+0100
TZOFFSETFROM:+0200
END:STANDARD
END:VTIMEZONE
END:VCALENDAR
