BEGIN:VCALENDAR
PRODID:-//eluceo/ical//2.0/EN
VERSION:2.0
CALSCALE:GREGORIAN
BEGIN:VEVENT
UID:f3523fcc071d022c72a61dfd24d4ba4d
DTSTAMP:20260425T221850Z
SUMMARY:Cuida’t el fetge! Informació i cribratge gratuït d’hepatitis 
 virals
DESCRIPTION:Carpa informativa sobre hepatitis B i C: aprèn sobre prevenci
 ó\, transmissió i tractament\, resol dubtes i\, si compleixes els requis
 its\, fes-te un test ràpid gratuït i confidencial amb assessorament pers
 onalitzat del nostre equip. \n\nPúblic: Adults en general \n\nTipus d
 ’activitat: Carpes (a la calçada) \n\nHorari: 9:30-14:30 
DTSTART;TZID=Europe/Madrid:20260509T093000
DTEND;TZID=Europe/Madrid:20260509T143000
LOCATION:Casanova - Còrsega
END:VEVENT
BEGIN:VTIMEZONE
TZID:Europe/Madrid
BEGIN:STANDARD
DTSTART:20260101T001850
TZNAME:CET
TZOFFSETTO:+0100
TZOFFSETFROM:+0100
END:STANDARD
BEGIN:DAYLIGHT
DTSTART:20260329T030000
TZNAME:CEST
TZOFFSETTO:+0200
TZOFFSETFROM:+0100
END:DAYLIGHT
BEGIN:STANDARD
DTSTART:20261025T020000
TZNAME:CET
TZOFFSETTO:+0100
TZOFFSETFROM:+0200
END:STANDARD
END:VTIMEZONE
END:VCALENDAR
