BEGIN:VCALENDAR
PRODID:-//eluceo/ical//2.0/EN
VERSION:2.0
CALSCALE:GREGORIAN
BEGIN:VEVENT
UID:567943f7fb2cc1cfd41a060f5c7ea9b1
DTSTAMP:20260425T233019Z
SUMMARY:Cuina en directe amb Arnau París
DESCRIPTION:Cuiner i comunicador\, és conegut com el cuiner Pim Pam del pr
 ograma Cuines de 3Cat. Compagina la feina a la televisió i les xarxes soc
 ials amb el Molí de la Vansa (Lleida)\, la masia familiar on desenvolupa 
 una cuina arrelada al producte i al territori. \n\nPúblic: Per a tota l
 a família \n\nTipus d’activitat: Cuina en directe \n\nHorari: 12:30
 h 
DTSTART;TZID=Europe/Madrid:20260509T123000
DTEND;TZID=Europe/Madrid:20260509T133000
LOCATION:Casanova - Provença
END:VEVENT
BEGIN:VTIMEZONE
TZID:Europe/Madrid
BEGIN:STANDARD
DTSTART:20260101T013019
TZNAME:CET
TZOFFSETTO:+0100
TZOFFSETFROM:+0100
END:STANDARD
BEGIN:DAYLIGHT
DTSTART:20260329T030000
TZNAME:CEST
TZOFFSETTO:+0200
TZOFFSETFROM:+0100
END:DAYLIGHT
BEGIN:STANDARD
DTSTART:20261025T020000
TZNAME:CET
TZOFFSETTO:+0100
TZOFFSETFROM:+0200
END:STANDARD
END:VTIMEZONE
END:VCALENDAR
