BEGIN:VCALENDAR
PRODID:-//eluceo/ical//2.0/EN
VERSION:2.0
CALSCALE:GREGORIAN
BEGIN:VEVENT
UID:1c9b34596b5a0c4d349e5ad54053c4d9
DTSTAMP:20260425T221520Z
SUMMARY:Cuina en directe amb Carlota Claver
DESCRIPTION:Aprendrem a cuinar plats saludables\, saborosos i plens de crea
 tivitat en una sessió de cuina en directe! Ho farem amb la xef Carlota Cl
 aver\, del restaurant La Gormanda\, que compartirà receptes\, trucs i ide
 es per transformar ingredients quotidians en plats deliciosos. Una oportun
 itat per veure com es cuina en directe\, descobrir noves combinacions i in
 spirar-nos per cuidar la salut també a través del que mengem. \n\nPúbl
 ic: Per a tota la família \n\nTipus d’activitat: Cuina en directe \
 n\nHorari: 11:15h 
DTSTART;TZID=Europe/Madrid:20260509T111500
DTEND;TZID=Europe/Madrid:20260509T121500
LOCATION:Casanova - Provença
END:VEVENT
BEGIN:VTIMEZONE
TZID:Europe/Madrid
BEGIN:STANDARD
DTSTART:20260101T001520
TZNAME:CET
TZOFFSETTO:+0100
TZOFFSETFROM:+0100
END:STANDARD
BEGIN:DAYLIGHT
DTSTART:20260329T030000
TZNAME:CEST
TZOFFSETTO:+0200
TZOFFSETFROM:+0100
END:DAYLIGHT
BEGIN:STANDARD
DTSTART:20261025T020000
TZNAME:CET
TZOFFSETTO:+0100
TZOFFSETFROM:+0200
END:STANDARD
END:VTIMEZONE
END:VCALENDAR
