BEGIN:VCALENDAR
PRODID:-//eluceo/ical//2.0/EN
VERSION:2.0
CALSCALE:GREGORIAN
BEGIN:VEVENT
UID:6b6d71d028e04ed8b7595716b0da40a2
DTSTAMP:20260425T221520Z
SUMMARY:Cuina en directe amb Maria Nicolau
DESCRIPTION:Maria Nicolau (La Garriga\, 1982) és cuinera i escriptora d’
 ofici i per vocació. Ha treballat més de vint-i-cint anys en una pila de
  restaurants de tot tipus i condició.   \n\nAvui viu\, cuina i escriu 
 en un poble de tres-cents habitants en plena natura a Osona. Té sempre el
  teclat ple d’engrunes. Ha escrit Cuina! O barbàrie (Ara Llibres\, 2022
 ) i Cremo! (Columna\, 2024)\, dos fenòmens tant culinaris com literaris. 
 És col·laboradora habitual d’El matí de Catalunya Ràdio\, del Tot es
  mou a TV3 i columnista del diari El País. Té un dietari a Substack on l
 a podeu llegir una mica cada vespre i sempre la trobareu fent soroll a les
  xarxes socials. \n\nPúblic: Per a tota la família \n\nTipus d’acti
 vitat: Cuina en directe \n\nHorari: 13:45h 
DTSTART;TZID=Europe/Madrid:20260509T134500
DTEND;TZID=Europe/Madrid:20260509T144500
LOCATION:Casanova - Provença
END:VEVENT
BEGIN:VTIMEZONE
TZID:Europe/Madrid
BEGIN:STANDARD
DTSTART:20260101T001520
TZNAME:CET
TZOFFSETTO:+0100
TZOFFSETFROM:+0100
END:STANDARD
BEGIN:DAYLIGHT
DTSTART:20260329T030000
TZNAME:CEST
TZOFFSETTO:+0200
TZOFFSETFROM:+0100
END:DAYLIGHT
BEGIN:STANDARD
DTSTART:20261025T020000
TZNAME:CET
TZOFFSETTO:+0100
TZOFFSETFROM:+0200
END:STANDARD
END:VTIMEZONE
END:VCALENDAR
