BEGIN:VCALENDAR
PRODID:-//eluceo/ical//2.0/EN
VERSION:2.0
CALSCALE:GREGORIAN
BEGIN:VEVENT
UID:3eb06b550ce05a15c22e6831df310323
DTSTAMP:20260420T100631Z
SUMMARY:Curs AliClinic: Introducció a la Medicina Culinària
DESCRIPTION:AliClinic: Introducció a la medicina culinària\, és un progr
 ama en línia de formació sanitària acreditat* dirigit a professionals 
 de la salut sobre alimentació saludable\, cuina pràctica preparada a cas
 a i estratègies per a facilitar un canvi d'hàbits en els pacients i en e
 ls mateixos professionals.\n\nEls professionals amb millors coneixements i
  hàbits alimentaris assessoren més i millor als seus pacients sobre alim
 entació. Al seu torn\, els pacients acudeixen als professionals sanitaris
  per a rebre consells sobre la seva alimentació\, però no sempre obtenen
  l'accés\, coneixement i eines òptimes per a cobrir aquesta necessitat.\
 n\nEl curs en línia consta de 6 mòduls accessibles a partir del 2 de nov
 embre i una sessió en streaming que se celebrarà el 16 de febrer de 20
 22. El període per a inscriure's i completar el curs és completament obe
 rt dins d'aquestes dates.\n\n* Curs acreditat amb 2\,8 crèdits pel Con
 sell Català de Formació Continuada. \n\n** Per al personal del Clínic
  i per a les persones que s'inscriguin abans del 2 de novembre s'aplicar
 à un 20% de descompte.
DTSTART;VALUE=DATE:20230301
LOCATION:
END:VEVENT
BEGIN:VTIMEZONE
TZID:Europe/Madrid
BEGIN:STANDARD
DTSTART:20260101T120631
TZNAME:CET
TZOFFSETTO:+0100
TZOFFSETFROM:+0100
END:STANDARD
BEGIN:DAYLIGHT
DTSTART:20260329T030000
TZNAME:CEST
TZOFFSETTO:+0200
TZOFFSETFROM:+0100
END:DAYLIGHT
BEGIN:STANDARD
DTSTART:20261025T020000
TZNAME:CET
TZOFFSETTO:+0100
TZOFFSETFROM:+0200
END:STANDARD
END:VTIMEZONE
END:VCALENDAR
