BEGIN:VCALENDAR
PRODID:-//eluceo/ical//2.0/EN
VERSION:2.0
CALSCALE:GREGORIAN
BEGIN:VEVENT
UID:35012216615ff8ad3660d007a1c480eb
DTSTAMP:20260421T002048Z
SUMMARY:Curs en línia: Com hem d'actuar davant d'una aturada cardiorespira
 tòria? Tu també pots salvar vides - Ed 10
DESCRIPTION:Aquest curs està dissenyat per oferir coneixements i habilitat
 s per a reconèixer una emergència\, activar la cadena de supervivència 
 i aplicar maniobres bàsiques com: la Reanimació cardiopulmonar (RCP)\, l
 ’ús del Desfibril·lador Extern Automàtic (DEA) i la desobstrucció de
  la via aèria en cas d’ennuegament.\n\n\n\n\n\n\n\n\n\n\nEls coneixemen
 ts presentats estan orientats a un públic general i en cap cas substituei
 xen el consell d’un professional de la salut\n\nOrganitza: Escola de Sal
 ut Catalana en col·laboració amb el Pla director de malalties cardiovasc
 ulars de la Direcció General de Planificació en Salut del Departament de
  Salut.\n\nCal inscripció prèvia gratuïta. Data límit 4 de maig\n\nHor
 ari lliure\n\n\n\n\n\n\n\n\n
DTSTART;TZID=Europe/Madrid:20260506T000000
DTEND;TZID=Europe/Madrid:20260528T000000
LOCATION:
END:VEVENT
BEGIN:VTIMEZONE
TZID:Europe/Madrid
BEGIN:STANDARD
DTSTART:20260101T022048
TZNAME:CET
TZOFFSETTO:+0100
TZOFFSETFROM:+0100
END:STANDARD
BEGIN:DAYLIGHT
DTSTART:20260329T030000
TZNAME:CEST
TZOFFSETTO:+0200
TZOFFSETFROM:+0100
END:DAYLIGHT
BEGIN:STANDARD
DTSTART:20261025T020000
TZNAME:CET
TZOFFSETTO:+0100
TZOFFSETFROM:+0200
END:STANDARD
END:VTIMEZONE
END:VCALENDAR
