BEGIN:VCALENDAR
PRODID:-//eluceo/ical//2.0/EN
VERSION:2.0
CALSCALE:GREGORIAN
BEGIN:VEVENT
UID:12aedaa32ee77f603736809feb4415b8
DTSTAMP:20260423T090821Z
SUMMARY:Curs en línia: Com hem d'actuar davant d'una aturada cardiorespira
 tòria? Tu també pots salvar vides - Ed 9
DESCRIPTION:\n\n\n\n\n\n\n\n\nAquest curs està dissenyat per oferir coneix
 ements i habilitats per a reconèixer una emergència\, activar la cadena 
 de supervivència i aplicar maniobres bàsiques com: la Reanimació cardio
 pulmonar (RCP)\, l’ús del Desfibril·lador Extern Automàtic (DEA) i la
  desobstrucció de la via aèria en cas d’ennuegament.\n\n\n\n\n\n\n\n\n
 \n\nEls coneixements presentats estan orientats a un públic general i en 
 cap cas substitueixen el consell d’un professional de la salut\n\nOrgani
 tza: Escola de Salut Catalana en col·laboració amb el Pla director de ma
 lalties cardiovasculars de la Direcció General de Planificació en Salut 
 del Departament de Salut.\n\nCal inscripció prèvia gratuïta. Data lími
 t 6 d'abril\n\nHorari lliure\n\n\n\n\n\n\n\n\n\n\n\n\n\n\n\n\n\n
DTSTART;TZID=Europe/Madrid:20260408T000000
DTEND;TZID=Europe/Madrid:20260430T000000
LOCATION:
END:VEVENT
BEGIN:VTIMEZONE
TZID:Europe/Madrid
BEGIN:STANDARD
DTSTART:20260101T110821
TZNAME:CET
TZOFFSETTO:+0100
TZOFFSETFROM:+0100
END:STANDARD
BEGIN:DAYLIGHT
DTSTART:20260329T030000
TZNAME:CEST
TZOFFSETTO:+0200
TZOFFSETFROM:+0100
END:DAYLIGHT
BEGIN:STANDARD
DTSTART:20261025T020000
TZNAME:CET
TZOFFSETTO:+0100
TZOFFSETFROM:+0200
END:STANDARD
END:VTIMEZONE
END:VCALENDAR
