BEGIN:VCALENDAR
PRODID:-//eluceo/ical//2.0/EN
VERSION:2.0
CALSCALE:GREGORIAN
BEGIN:VEVENT
UID:057fdce75c48b9d2991bf38c03d9a6a2
DTSTAMP:20260425T222029Z
SUMMARY:Descobreix la teràpia CAR-T: quan les teves cèl·lules es convert
 eixen en heroïnes
DESCRIPTION:Descobreix la teràpia CAR-T: participa en un taller pràctic o
 n veuràs cèl·lules al microscopi\, simularàs la modificació genètica
  i descobriràs com es transforma la sang del pacient en un tractament per
 sonalitzat contra el càncer. \n\nPúblic: Per a tota la família \n\nT
 ipus d’activitat: Carpes (a la calçada) \n\nHorari: 9:30-14:30 
DTSTART;TZID=Europe/Madrid:20260509T093000
DTEND;TZID=Europe/Madrid:20260509T143000
LOCATION:Casanova - Còrsega
END:VEVENT
BEGIN:VTIMEZONE
TZID:Europe/Madrid
BEGIN:STANDARD
DTSTART:20260101T002029
TZNAME:CET
TZOFFSETTO:+0100
TZOFFSETFROM:+0100
END:STANDARD
BEGIN:DAYLIGHT
DTSTART:20260329T030000
TZNAME:CEST
TZOFFSETTO:+0200
TZOFFSETFROM:+0100
END:DAYLIGHT
BEGIN:STANDARD
DTSTART:20261025T020000
TZNAME:CET
TZOFFSETTO:+0100
TZOFFSETFROM:+0200
END:STANDARD
END:VTIMEZONE
END:VCALENDAR
