BEGIN:VCALENDAR
PRODID:-//eluceo/ical//2.0/EN
VERSION:2.0
CALSCALE:GREGORIAN
BEGIN:VEVENT
UID:86c925016cc4f11f917ca42743ab6225
DTSTAMP:20260424T202905Z
SUMMARY:Dia Mundial contra la violència de gènere
DESCRIPTION:El Clínic compromès amb la recuperació de la salut de les pe
 rsones agredides sexualment.\n\n
DTSTART;VALUE=DATE:20191122
LOCATION:Sala Farreras Valentí (Escalera 7-9\, planta3). C/Villarroel\, 17
 0.
END:VEVENT
BEGIN:VTIMEZONE
TZID:Europe/Madrid
BEGIN:STANDARD
DTSTART:20260101T222905
TZNAME:CET
TZOFFSETTO:+0100
TZOFFSETFROM:+0100
END:STANDARD
BEGIN:DAYLIGHT
DTSTART:20260329T030000
TZNAME:CEST
TZOFFSETTO:+0200
TZOFFSETFROM:+0100
END:DAYLIGHT
BEGIN:STANDARD
DTSTART:20261025T020000
TZNAME:CET
TZOFFSETTO:+0100
TZOFFSETFROM:+0200
END:STANDARD
END:VTIMEZONE
END:VCALENDAR
