BEGIN:VCALENDAR
PRODID:-//eluceo/ical//2.0/EN
VERSION:2.0
CALSCALE:GREGORIAN
BEGIN:VEVENT
UID:64164c97b1f3e6700798ea369d685e51
DTSTAMP:20260425T233019Z
SUMMARY:Dibuixem el que ens fa bé
DESCRIPTION:“Dibuixem el que ens fa bé” és una proposta educativa vin
 culada al Clínic Obert 2026\, impulsada pel CAPSBE i el Campus Clínic\, 
 per apropar-se a les escoles del barri de manera participativa i significa
 tiva. L’activitat contempla tres accions: una breu peça teatral\, un ta
 ller de dibuix i una exposició col·lectiva.\n\nPúblic: Per a tota la f
 amília \n\nTipus d’activitat: Activitat Comunitària \n\nHorari: 9:
 30h-14:30h 
DTSTART;TZID=Europe/Madrid:20260509T093000
DTEND;TZID=Europe/Madrid:20260509T143000
LOCATION:Casanova - Rosselló
END:VEVENT
BEGIN:VTIMEZONE
TZID:Europe/Madrid
BEGIN:STANDARD
DTSTART:20260101T013019
TZNAME:CET
TZOFFSETTO:+0100
TZOFFSETFROM:+0100
END:STANDARD
BEGIN:DAYLIGHT
DTSTART:20260329T030000
TZNAME:CEST
TZOFFSETTO:+0200
TZOFFSETFROM:+0100
END:DAYLIGHT
BEGIN:STANDARD
DTSTART:20261025T020000
TZNAME:CET
TZOFFSETTO:+0100
TZOFFSETFROM:+0200
END:STANDARD
END:VTIMEZONE
END:VCALENDAR
