BEGIN:VCALENDAR
PRODID:-//eluceo/ical//2.0/EN
VERSION:2.0
CALSCALE:GREGORIAN
BEGIN:VEVENT
UID:0b682301043876ba007ef2ed4cc88c56
DTSTAMP:20260425T221225Z
SUMMARY:DJ Miqui Puig
DESCRIPTION:Miqui Puig té una capacitat inèdita al pop estatal per unir g
 eneracions ja fos amb Los Sencillos\, acompanyat de l'ACP o fent col·labo
 racions. Les sessions DJ d'en Miqui impregnen el públic de felicitat amb 
 melodies i ritmes que només ell sap quan s'acabaran\, barrejant temes que
  creies oblidats\, amb altres contemporanis i rebuscant en el seu imaginar
 i de soul\, guitarres pop i endròmines electròniques per a crear la band
 a sonora de festes inovidables. El mateix esperit amb el que dirigeix el s
 eu programa Pista de Fusta\, que emet a diari a l'emissora iCat FM de Cata
 lunya Ràdio des de 2016\, portat a la pista de ball. \n\nPúblic: Per a
  tota la família \n\nTipus d’activitat: Escenari musical \n\nHorari:
  15:15h 
DTSTART;TZID=Europe/Madrid:20260509T151500
DTEND;TZID=Europe/Madrid:20260509T161500
LOCATION:Casanova - Còrsega
END:VEVENT
BEGIN:VTIMEZONE
TZID:Europe/Madrid
BEGIN:STANDARD
DTSTART:20260101T001225
TZNAME:CET
TZOFFSETTO:+0100
TZOFFSETFROM:+0100
END:STANDARD
BEGIN:DAYLIGHT
DTSTART:20260329T030000
TZNAME:CEST
TZOFFSETTO:+0200
TZOFFSETFROM:+0100
END:DAYLIGHT
BEGIN:STANDARD
DTSTART:20261025T020000
TZNAME:CET
TZOFFSETTO:+0100
TZOFFSETFROM:+0200
END:STANDARD
END:VTIMEZONE
END:VCALENDAR
