BEGIN:VCALENDAR
PRODID:-//eluceo/ical//2.0/EN
VERSION:2.0
CALSCALE:GREGORIAN
BEGIN:VEVENT
UID:9b1eb32e09c7e891069ee2094d0f787b
DTSTAMP:20260425T221225Z
SUMMARY:Educació sexual i fora tabús
DESCRIPTION:Salut sexual i reproductiva: informa’t i protegeix-te! Preven
 im embarassos i ITS\, fomentem respecte i consentiment\, oferim educació 
 emocional\, recursos per a joves i famílies\, i un espai de confiança pe
 r resoldre dubtes. \n\nPúblic: Adults en general\, joves i adolescents
  \n\nTipus d’activitat: Carpes (a la calçada) \n\nHorari: 9:30-14:3
 0 
DTSTART;TZID=Europe/Madrid:20260509T093000
DTEND;TZID=Europe/Madrid:20260509T143000
LOCATION:Casanova - Provença
END:VEVENT
BEGIN:VTIMEZONE
TZID:Europe/Madrid
BEGIN:STANDARD
DTSTART:20260101T001225
TZNAME:CET
TZOFFSETTO:+0100
TZOFFSETFROM:+0100
END:STANDARD
BEGIN:DAYLIGHT
DTSTART:20260329T030000
TZNAME:CEST
TZOFFSETTO:+0200
TZOFFSETFROM:+0100
END:DAYLIGHT
BEGIN:STANDARD
DTSTART:20261025T020000
TZNAME:CET
TZOFFSETTO:+0100
TZOFFSETFROM:+0200
END:STANDARD
END:VTIMEZONE
END:VCALENDAR
