BEGIN:VCALENDAR
PRODID:-//eluceo/ical//2.0/EN
VERSION:2.0
CALSCALE:GREGORIAN
BEGIN:VEVENT
UID:d29d9d75f40c5fe370a96d5d56e001b8
DTSTAMP:20260425T221545Z
SUMMARY:Eixample Clínic: formant els professionals de la salut
DESCRIPTION:Descobreix què fan i com es formen els futurs professionals de
  la salut a la carpa d’Eixample Clínic. Professorat i estudiants explic
 aran la seva activitat i mostraran algunes de les tècniques i coneixement
 s que aprenen en els cicles formatius sanitaris. Una oportunitat per conè
 ixer de prop com es preparen els tècnics que treballaran en hospitals\, l
 aboratoris o centres de salut. \n\nPúblic: Adults en general \n\nTipus
  d’activitat: Carpes (a la calçada) \n\nHorari: 9:30-14:30 
DTSTART;TZID=Europe/Madrid:20260509T093000
DTEND;TZID=Europe/Madrid:20260509T143000
LOCATION:Casanova - Provença
END:VEVENT
BEGIN:VTIMEZONE
TZID:Europe/Madrid
BEGIN:STANDARD
DTSTART:20260101T001545
TZNAME:CET
TZOFFSETTO:+0100
TZOFFSETFROM:+0100
END:STANDARD
BEGIN:DAYLIGHT
DTSTART:20260329T030000
TZNAME:CEST
TZOFFSETTO:+0200
TZOFFSETFROM:+0100
END:DAYLIGHT
BEGIN:STANDARD
DTSTART:20261025T020000
TZNAME:CET
TZOFFSETTO:+0100
TZOFFSETFROM:+0200
END:STANDARD
END:VTIMEZONE
END:VCALENDAR
