BEGIN:VCALENDAR
PRODID:-//eluceo/ical//2.0/EN
VERSION:2.0
CALSCALE:GREGORIAN
BEGIN:VEVENT
UID:26655dcd30f700c438e7419fe3e5d017
DTSTAMP:20260425T221721Z
SUMMARY:‘El Suplement’ en directe des del Clínic Obert
DESCRIPTION:“El Suplement” amb Roger Escapa en directe des del Clínic
  Obert. L’emissió del programa especial de ‘El Suplement’ comença
 rà a les 10 hores i s’acabarà a les 13h. Pels micròfons de Catalunya 
 Ràdio passaran els protagonistes del dia i es podran conèixer històries
  humanes vinculades amb el Campus Clínic. També es preveu fer diverses c
 onnexions en directe per conèixer llocs menys concorreguts habitualment d
 ins del Campus. \n\nPúblic: Per a tota la família \n\nTipus d’activ
 itat: Ràdio en directe \n\nHorari: De 10 a 13h 
DTSTART;TZID=Europe/Madrid:20260509T100000
DTEND;TZID=Europe/Madrid:20260509T130000
LOCATION:Casanova - Rosselló
END:VEVENT
BEGIN:VTIMEZONE
TZID:Europe/Madrid
BEGIN:STANDARD
DTSTART:20260101T001721
TZNAME:CET
TZOFFSETTO:+0100
TZOFFSETFROM:+0100
END:STANDARD
BEGIN:DAYLIGHT
DTSTART:20260329T030000
TZNAME:CEST
TZOFFSETTO:+0200
TZOFFSETFROM:+0100
END:DAYLIGHT
BEGIN:STANDARD
DTSTART:20261025T020000
TZNAME:CET
TZOFFSETTO:+0100
TZOFFSETFROM:+0200
END:STANDARD
END:VTIMEZONE
END:VCALENDAR
