BEGIN:VCALENDAR
PRODID:-//eluceo/ical//2.0/EN
VERSION:2.0
CALSCALE:GREGORIAN
BEGIN:VEVENT
UID:4b18cdf5c042420001727030181db400
DTSTAMP:20260425T221617Z
SUMMARY:El teu pols parla\, escoltem el teu cor
DESCRIPTION:La fibril·lació auricular és l’arrítmia més comuna i pot
  ser greu o silenciosa\, amb risc d’ictus. La carpa ofereix electrocardi
 ogrames\, enquestes i informació per sensibilitzar\, detectar i prevenir 
 arítmies cardíaques. \n\nPúblic: Per a tota la família \n\nTipus d
 ’activitat: Carpes (a la calçada) \n\nHorari: 9:30-14:30 
DTSTART;TZID=Europe/Madrid:20260509T093000
DTEND;TZID=Europe/Madrid:20260509T143000
LOCATION:Casanova - Còrsega
END:VEVENT
BEGIN:VTIMEZONE
TZID:Europe/Madrid
BEGIN:STANDARD
DTSTART:20260101T001617
TZNAME:CET
TZOFFSETTO:+0100
TZOFFSETFROM:+0100
END:STANDARD
BEGIN:DAYLIGHT
DTSTART:20260329T030000
TZNAME:CEST
TZOFFSETTO:+0200
TZOFFSETFROM:+0100
END:DAYLIGHT
BEGIN:STANDARD
DTSTART:20261025T020000
TZNAME:CET
TZOFFSETTO:+0100
TZOFFSETFROM:+0200
END:STANDARD
END:VTIMEZONE
END:VCALENDAR
