BEGIN:VCALENDAR
PRODID:-//eluceo/ical//2.0/EN
VERSION:2.0
CALSCALE:GREGORIAN
BEGIN:VEVENT
UID:c9ca71d8488ddaa0d641fd5edb10d13b
DTSTAMP:20260424T111635Z
SUMMARY:Els Webinars dels dijous. Hospital Clínic de Barcelona SARS-CoV-2
DESCRIPTION:Nou webinar d'actualització sobre el coneixement en el camp de
  la COVID-19.\n\nEl programa del webinar\, moderat pel Dr. Josep M. Miró\
 , és el següent:\n\n\nCom convertir un hospital universitari en un hospi
 tal COVID-19: Recomanacions per a l'escalada i la tornada a la normalitat.
  Dr. Josep M. Nicolás.\nFisiopatologia i Manifestacions clíniques de la 
 COVID-19. Implicacions clíniques i pronòstic. Dr. Àlex Soriano.\n\n\nM
 és informació en aquest enllaç.
DTSTART;VALUE=DATE:20200514
LOCATION:
END:VEVENT
BEGIN:VTIMEZONE
TZID:Europe/Madrid
BEGIN:STANDARD
DTSTART:20260101T131635
TZNAME:CET
TZOFFSETTO:+0100
TZOFFSETFROM:+0100
END:STANDARD
BEGIN:DAYLIGHT
DTSTART:20260329T030000
TZNAME:CEST
TZOFFSETTO:+0200
TZOFFSETFROM:+0100
END:DAYLIGHT
BEGIN:STANDARD
DTSTART:20261025T020000
TZNAME:CET
TZOFFSETTO:+0100
TZOFFSETFROM:+0200
END:STANDARD
END:VTIMEZONE
END:VCALENDAR
